BEGIN:VCALENDAR
VERSION:2.0
PRODID:-//hacksw/handcal//NONSGML v1.0//EN
BEGIN:VEVENT
SUMMARY:Evalue Ping 2026 a Nice Dufy
UID:09c20cde-d1b5-49ae-ac5c-686b59bf72c3
DTSTART:20260503T064500Z
DTEND:20260503T100000Z
LOCATION:Localisation Salle Raoul Dufy, avenue Raoul Dufy 06000 Nice
CATEGORIES:Sportif
STATUS:
DESCRIPTION:<p><b>EVALUE PING 2026</b></p>
 
 <p><b><i>SALLE RAOUL DUFY
 NICE</i></b></p>
 
 <p><b><i>Dimanche 3 MAI
 2026</i></b></p>
 
 <p><b><i>Les Categories de jeunes licencies pouvant
 participer</i></b></p>
 
 <p>1) Poussins 2) Benjamins 3) Minimes 4)
 Cadets 5) Juniors - 9 ans Garcons et Filles.</p>
 
 <p>-11 ans Garcons
 et Filles</p>
 
 <p>-13 ans Garcons et Filles.</p>
 
 <p>-15 ans Garcons
 et Filles.</p>
 
 <p>-19 ans Garcons et Filles</p>
 
 <p>Les jeunes sont
 repartis par niveaux (1 a 3) selon leur classement au
 1/1/2026</p>
 
 <p><b><i>Horaires de
 Convocation</i></b></p>
 
 <p><b>Pointage 8h45 debut de l’epreuve
 9h</b></p>
 
 <p><b>Fin de la manifestation prevue vers
 12h</b></p>
 
 <p><b>P
 articipation</b></p>
 
 <p>Gratuite</p>
 
 <p><b><i>INSCRIPTIONS</i></b></p>
 
 <p><b>Les
 inscriptions doivent se faire sur le site du CDAM </b><b>jusqu’au
 mercredi 29 avril 20h</b></p>
 
 <p><b>(aucune inscription par
 telephone)</b></p>
 
 <p>Pour tout renseignement complementaire
 telephoner a Olivier PERRET : 06.73.79.27.88</p>
 
 <p>JUGE ARBITRE<b>
 : Nikita IONNIKOFF (JA3) tel : 06 21 14 89 22</b></p>
URL;VALUE=URI:https://www.asvtt.fr/evenements/2026/05/03/evalue-ping-2026-a-nice-dufy-2439257
END:VEVENT
END:VCALENDAR
