BEGIN:VCALENDAR
VERSION:2.0
PRODID:-//hacksw/handcal//NONSGML v1.0//EN
BEGIN:VEVENT
SUMMARY:Petite salle Falcoz indisponible
UID:c26bee47-d8e5-400c-9c6d-ca4bc3197953
DTSTART:20260426T150000Z
DTEND:20260426T214500Z
LOCATION:Localisation   
CATEGORIES:Sportif
STATUS:
DESCRIPTION:<p>Salles Falcoz (grande et petite) indisponibles pour
 cause du Loto du Foot. </p>
URL;VALUE=URI:https://www.asvtt.fr/evenements/2026/04/26/petite-salle-falcoz-indisponible-2433219
END:VEVENT
END:VCALENDAR
